BEGIN:VCALENDAR
PRODID:-//Microsoft Corporation//Outlook 12.0 MIMEDIR//EN
VERSION:2.0
METHOD:PUBLISH
X-MS-OLK-FORCEINSPECTOROPEN:TRUE
BEGIN:VEVENT
CLASS:PUBLIC
CREATED:20200210T140800Z
DESCRIPTION:
DTEND:20200215T000000Z
DTSTAMP:20200210T140800Z
DTSTART:20200215T000000Z
LAST-MODIFIED:20200210T141000Z
LOCATION:Keurbooms
PRIORITY:5
SEQUENCE:0
SUMMARY;LANGUAGE=en-us:Beach Clean Up
TRANSP:OPAQUE
UID:20210426T154918-1821031518-wcdlg
X-MICROSOFT-CDO-BUSYSTATUS:BUSY
X-MICROSOFT-CDO-IMPORTANCE:1
X-MICROSOFT-DISALLOW-COUNTER:FALSE
X-MS-OLK-ALLOWEXTERNCHECK:TRUE
X-MS-OLK-AUTOFILLLOCATION:FALSE
X-MS-OLK-CONFTYPE:0
BEGIN:VALARM
TRIGGER:-PT1440M
ACTION:DISPLAY
DESCRIPTION:Reminder
END:VALARM
END:VEVENT
END:VCALENDAR
